BEGIN:VCALENDAR
VERSION:2.0
PRODID:-//projekt.Wolfsgrund - ECPv6.15.20//NONSGML v1.0//EN
CALSCALE:GREGORIAN
METHOD:PUBLISH
X-ORIGINAL-URL:https://wolfsgrund.at
X-WR-CALDESC:Veranstaltungen für projekt.Wolfsgrund
REFRESH-INTERVAL;VALUE=DURATION:PT1H
X-Robots-Tag:noindex
X-PUBLISHED-TTL:PT1H
BEGIN:VTIMEZONE
TZID:UTC
BEGIN:STANDARD
TZOFFSETFROM:+0000
TZOFFSETTO:+0000
TZNAME:UTC
DTSTART:20250101T000000
END:STANDARD
END:VTIMEZONE
BEGIN:VEVENT
DTSTART;VALUE=DATE:20260430
DTEND;VALUE=DATE:20260504
DTSTAMP:20260421T104406
CREATED:20251107T115507Z
LAST-MODIFIED:20251108T103946Z
UID:220-1777507200-1777852799@wolfsgrund.at
SUMMARY:H.O.S.S.
DESCRIPTION:HOSS – Hot One Shot Service\nBei Hoss handelt es sich ausschließlich um abgeschlossene Geschichten die hier beginnen und auch hier enden. Mit unserer HOSS Serie wollen wir euch die Möglichkeit bieten neue Konzepte auszuprobieren\, eurer Gruppe ein Spiel zu bieten wo sie sich das erste mal „zusammen Spielen“ können oder einfach nur ein abenteuerliches Wochenende mit Freunden zu verbringen. \nWo spielen die Spiele der HOSS Serie. Spielort ist das Dorf Nachtfall im Quarter Melvis in Whenua. Dieses kleine Dorf bietet eine kleine Infrastruktur und die „Taverne Zwischen den Zeiten“.
URL:https://wolfsgrund.at/event/h-o-s-s/
LOCATION:Wolfsgrund\, Sparbach 19\, Vitis\, Niederösterreich\, 3902\, Austria
CATEGORIES:LARP
ATTACH;FMTTYPE=image/jpeg:https://wolfsgrund.at/wp-content/uploads/2025/11/hoss.jpg
ORGANIZER;CN="die Legendenmacher":MAILTO:info@larp.pro
END:VEVENT
BEGIN:VEVENT
DTSTART;VALUE=DATE:20260522
DTEND;VALUE=DATE:20260525
DTSTAMP:20260421T104406
CREATED:20251107T121219Z
LAST-MODIFIED:20251107T121521Z
UID:234-1779408000-1779667199@wolfsgrund.at
SUMMARY:im Schatten der Bestie
DESCRIPTION:Sammelt euch tapfere Heldinnen und Recken! Wie bereits auf den Tagen angekündigt\, versucht eine unaussprechlicher Feind in Whenua Wurzeln zu schlagen. Dieses Böse gewinnt an Kraft\, wenn man es bei seinem Namen nennt. Deshalb war es bisher sicherer im Verborgenen zu handeln\, doch nun brauchen die ewigen Wächter\, die diese Bedrohung bereits lange bekämpfen\, unser aller Unterstützung. \nMeine Bemühungen Informationen über dieses unbekannte Böse in Erfahrung zu bringen trugen Früchte. Einer meiner Trupps hat ein Lager entdeckt: Dieses liegt auf halbem Wege zwischen Gradum und Venvicium\, doch weit abseits der Straße in Richtung Osten\, knapp bevor die sanften Hügel sich in Berge wandeln. Die Whenuanische Armee und allen voran meine Melvischen Einheiten werden die umliegenden Dörfer schützen und uns mit allem Notwendigen versorgen. \nDoch für das Unterfangen dieses Lager auszumerzen brauche ich EUCH! \nIch stelle eine einzigartige Schlagtruppe zusammen und werde diese auch selbst anführen. Unsere Ziele sind sowohl mit Bedacht zu investigieren\, warum der Feind sich dort aufhält und was seine weiteren Vorhaben sind\, als auch um mit vereinter Kraft zuzuschlagen und den Vormarsch des Bösen zu stoppen. \nIch zähle auf euch. Gemeinsam sind wir stark! \nLyanna del Nolo
URL:https://wolfsgrund.at/event/im-schatten-der-bestie/
LOCATION:Wolfsgrund\, Sparbach 19\, Vitis\, Niederösterreich\, 3902\, Austria
CATEGORIES:LARP
ATTACH;FMTTYPE=image/jpeg:https://wolfsgrund.at/wp-content/uploads/2025/11/isdb_w.jpg
ORGANIZER;CN="Schwarzer Kreis Orga":MAILTO:info@larp.pro
END:VEVENT
BEGIN:VEVENT
DTSTART;VALUE=DATE:20260626
DTEND;VALUE=DATE:20260629
DTSTAMP:20260421T104406
CREATED:20251107T120057Z
LAST-MODIFIED:20251107T121517Z
UID:224-1782432000-1782691199@wolfsgrund.at
SUMMARY:am Ende zählt das Blut
DESCRIPTION:„am Ende zählt das Blut!“ ist ein Spiel im Jetzt-Zeit/Horror-Setting!\nChroniken von Aropea: Am Ende zählt das Blut\nMit „am Ende zählt das Blut“ erzählen wir eine Geschichte um eine kleine Gruppe von Menschen die\, neben den Kriegswirren\, auch mit Problemen der täglichen Leben zu kämpfen haben. Tauch mit uns in eine Geschichte ein die dich Gefühlsmäßig an deine Grenzen bringen wird. \nWerde Teil einer\, bis zum äußersten geforderten\, Truppe die in einem fern abgelegenen Heereslazarett die nicht nur mit den Verletzungen der Soldaten zu kämpfen ha
URL:https://wolfsgrund.at/event/am-ende-zaehlt-das-blut/
LOCATION:Wolfsgrund\, Sparbach 19\, Vitis\, Niederösterreich\, 3902\, Austria
CATEGORIES:LARP
ATTACH;FMTTYPE=image/jpeg:https://wolfsgrund.at/wp-content/uploads/2025/11/aezdb.jpg
ORGANIZER;CN="die Legendenmacher":MAILTO:info@larp.pro
END:VEVENT
BEGIN:VEVENT
DTSTART;VALUE=DATE:20260812
DTEND;VALUE=DATE:20260817
DTSTAMP:20260421T104406
CREATED:20251107T120721Z
LAST-MODIFIED:20251108T104505Z
UID:230-1786492800-1786924799@wolfsgrund.at
SUMMARY:Tage der Tapferkeit
DESCRIPTION:Seid gegrüßt\, tapfere Abenteurer! \nWillkommen zu den „Tagen der Tapferkeit“ – einem epischen LARP-Event\, das euch in die faszinierende Welt von Whenua entführt! Hier erwartet euch ein Wochenende voller Heldentaten\, spannender Turniere und unvergesslicher Erlebnisse. \nTurniere und Wettbewerbe: Tretet in aufregenden Turnieren gegeneinander an und sammelt Punkte für euer Quarter. Ob im Kampfturnier\, Alchemistenwettstreit oder Magietheorie-Wettbewerb – jede Fähigkeit zählt! \nQuests und Abenteuer: Stürzt euch in mysteriöse Questen und handlungsreiche Abenteuer. Eure Entscheidungen und Taten gestalten den Verlauf der Geschichte. \nGemeinschaft und Spaß: Ob als Familie\, Neuling oder erfahrener LARPer – bei uns ist jeder willkommen! Genießt das Ambiente\, schließt Freundschaften und lasst euch von der einzigartigen Atmosphäre verzaubern. \nPackt eure Ausrüstung\, schärft eure Schwerter und bereitet euch auf ein Abenteuer vor\, das ihr nie vergessen werdet!
URL:https://wolfsgrund.at/event/tage-der-tapferkeit/
LOCATION:Wolfsgrund\, Sparbach 19\, Vitis\, Niederösterreich\, 3902\, Austria
CATEGORIES:LARP
ATTACH;FMTTYPE=image/jpeg:https://wolfsgrund.at/wp-content/uploads/2025/11/FB_SarahPortr16_9__.jpg
ORGANIZER;CN="Legendenmacher/Larpschmiede":MAILTO:info@larp.pro
END:VEVENT
BEGIN:VEVENT
DTSTART;VALUE=DATE:20261023
DTEND;VALUE=DATE:20261027
DTSTAMP:20260421T104406
CREATED:20251107T120329Z
LAST-MODIFIED:20251107T121506Z
UID:227-1792713600-1793059199@wolfsgrund.at
SUMMARY:Tagebuch der Abenteurer
DESCRIPTION:Was passiert auf Tagebuch der Abenteurer?\nTagebuch der Abenteurer ist ein Spiel mit niedrigem einstiegst Niveau. Generell dreht es sich aber immer um den Einstig in einen Dungeon\, den Besuch eines Höhlensystems oder vielleicht sogar beidem.\nDas soll nicht heißen das du in den Dungeon gehen musst jedoch planen wir für jeden der an Tagebuch der Abenteurer teilnimmt auch die Möglichkeit ein den Dungeon zu besuchen. \nPlot auf Tagebuch der Abenteurer\nNatürlich haben wir immer mehrere Plots für die Spielerschaft vorbereitet. Wir begrüßen es aber auch sehr wenn ihr und Ideen und anfragen für persönliche Plots stellt. Gerne gehen wir darauf ein um gemeinsam mit euch das Spiel geschehen und euren Charakter weiter zu entwickeln. Dabei lebt Tagebuch der Abenteurer von Interaktivität zwischen den Spielern\, Interaktivität zwischen Spieler und Darstellern und der Interaktivität zwischen den Spielern und der Spielleitung.\nWir als Spielleitung reagieren oft und sehr gerne auf Dinge die direkt am Spiel passieren. Somit kann es auch schon mal passieren das wir auf unseren eigenen\, vorbereiteten Plot\, verzichten und euch auf dem Spiel mit euren Ideen unterstützen.
URL:https://wolfsgrund.at/event/tagebuch-der-abenteurer/
LOCATION:Wolfsgrund\, Sparbach 19\, Vitis\, Niederösterreich\, 3902\, Austria
CATEGORIES:LARP
ATTACH;FMTTYPE=image/png:https://wolfsgrund.at/wp-content/uploads/2025/11/tagebuch.png
ORGANIZER;CN="die Legendenmacher":MAILTO:info@larp.pro
END:VEVENT
END:VCALENDAR